BEGIN:VCALENDAR
VERSION:2.0
PRODID:-//Fort Worth Model A Ford Club - ECPv6.15.20//NONSGML v1.0//EN
CALSCALE:GREGORIAN
METHOD:PUBLISH
X-WR-CALNAME:Fort Worth Model A Ford Club
X-ORIGINAL-URL:https://fortworthmodela.org
X-WR-CALDESC:Events for Fort Worth Model A Ford Club
REFRESH-INTERVAL;VALUE=DURATION:PT1H
X-Robots-Tag:noindex
X-PUBLISHED-TTL:PT1H
BEGIN:VTIMEZONE
TZID:UTC
BEGIN:STANDARD
TZOFFSETFROM:+0000
TZOFFSETTO:+0000
TZNAME:UTC
DTSTART:20220101T000000
END:STANDARD
END:VTIMEZONE
BEGIN:VTIMEZONE
TZID:America/Chicago
BEGIN:DAYLIGHT
TZOFFSETFROM:-0600
TZOFFSETTO:-0500
TZNAME:CDT
DTSTART:20230312T080000
END:DAYLIGHT
BEGIN:STANDARD
TZOFFSETFROM:-0500
TZOFFSETTO:-0600
TZNAME:CST
DTSTART:20231105T070000
END:STANDARD
BEGIN:DAYLIGHT
TZOFFSETFROM:-0600
TZOFFSETTO:-0500
TZNAME:CDT
DTSTART:20240310T080000
END:DAYLIGHT
BEGIN:STANDARD
TZOFFSETFROM:-0500
TZOFFSETTO:-0600
TZNAME:CST
DTSTART:20241103T070000
END:STANDARD
BEGIN:DAYLIGHT
TZOFFSETFROM:-0600
TZOFFSETTO:-0500
TZNAME:CDT
DTSTART:20250309T080000
END:DAYLIGHT
BEGIN:STANDARD
TZOFFSETFROM:-0500
TZOFFSETTO:-0600
TZNAME:CST
DTSTART:20251102T070000
END:STANDARD
END:VTIMEZONE
BEGIN:VEVENT
DTSTART;TZID=UTC:20240623T143000
DTEND;TZID=UTC:20240623T160000
DTSTAMP:20260424T094757
CREATED:20240229T225742Z
LAST-MODIFIED:20240610T234511Z
UID:9466-1719153000-1719158400@fortworthmodela.org
SUMMARY:Club Meeting June
DESCRIPTION:Due to the expected number of our members attending the National Tour in Ruidoso\, we are moving the location of our monthly club meeting. It will be held 2:30\, June 23rd at the Little Germany Restaurant\, 6737 Camp Bowie Blvd. Fort Worth\, Texas. A late lunch or early supper (lupper) followed by a short meeting. Hope to see you there!
URL:https://fortworthmodela.org/event/club-meeting-june/
LOCATION:Little Germany Restaurant\, 6737 Camp Bowie Blvd.\, Fort Worth\, 76116\, United States
CATEGORIES:Monthly Meetings
ATTACH;FMTTYPE=image/jpeg:https://fortworthmodela.org/wp-content/uploads/model-a-ford-06-2.jpg
END:VEVENT
BEGIN:VEVENT
DTSTART;VALUE=DATE:20240613
DTEND;VALUE=DATE:20240617
DTSTAMP:20260424T094757
CREATED:20240229T033841Z
LAST-MODIFIED:20240229T033841Z
UID:9421-1718236800-1718582399@fortworthmodela.org
SUMMARY:2024 Texas Tour in Nacogdoches\, Texas
DESCRIPTION:Nacogdoches – Texas Starts Here\nThe Dallas Model A Ford Club is excited to be hosting the 2024 Texas Tour in Nacogdoches\, Texas. Nacogdoches proclaims itself as “the oldest town” in Texas with its beginning in 1776. \nGet away for the weekend to beautiful Nacogdoches. From antiquing to nature walks\, redbrick streets of the historic downtown\, the charm of the Oldest Town in Texas\, and miles of historic trails and sites\, Nacogdoches is filled with photo opportunities and so many reasons to visit. \n» Registration for the tour is now open. \nWe recommend going ahead and reserving your accommodations as soon as possible\, while they are still available. \n» View Activities Schedule \nAccommodations\nThe 2024 Texas Tour will be hosted at the Fredonia Hotel. The Fredonia Hotel has been a jewel of East Texas since 1955 and has become a historic destination. \nVisit the Accommodations link for more hotel options\, bed and breakfast options as well as RV Parking.\nParticipants are responsible for booking their own accomodations. We have room blocks located at the host hotel along with two other nearby hotels.\nTrailer parking will be available at an offsite location.
URL:https://fortworthmodela.org/event/2024-texas-tour-in-nacogdoches-texas/
LOCATION:TX
CATEGORIES:Tour Events
ATTACH;FMTTYPE=image/jpeg:https://fortworthmodela.org/wp-content/uploads/texas-Tour-900x600-1-1.jpg
ORGANIZER;CN="Dallas Model A Ford Club":MAILTO:texastour2024@dmafc.com
END:VEVENT
BEGIN:VEVENT
DTSTART;TZID=America/Chicago:20240601T090000
DTEND;TZID=America/Chicago:20240601T235900
DTSTAMP:20260424T094757
CREATED:20240408T042410Z
LAST-MODIFIED:20240531T171848Z
UID:11204-1717232400-1717286340@fortworthmodela.org
SUMMARY:Coffee and Cruise at Custom Koncepts
DESCRIPTION:I would love to personally invite the Fort Worth Model A Club to Coffee and Cruise\, this Saturday\, June 1st! It is our first ever event at Custom Koncepts\, 7751 Scott St\, Ft Worth\, Tx 76108\, from 9am-12pm. \n\nAll Makes & Models Welcome\n9AM – Gates Open\n11:30AM – Raffle for all registered attendees\n12:00PM – Cruise to Heim BBQ Riverside – 5333 White Settlement Rd\, Fort Worth\, TX 76114\n\nIt’s free to register and can be done here at this link:\nhttps://www.customkoncepts.com/coffeeandcruise2024 \nThanks for reading and we hope y’all can make it! Please let me know if you have any questions.\nJack Feltgen
URL:https://fortworthmodela.org/event/coffee-and-cruise-at-custom-koncepts/
LOCATION:Custom Koncepts\, 7751 Scott St.\, Ft Worth\, TX\, 76108\, United States
CATEGORIES:Special Events
ATTACH;FMTTYPE=image/jpeg:https://fortworthmodela.org/wp-content/uploads/car-show-3079.jpg
ORGANIZER;CN="Jack Feltgen":MAILTO:Jjackf@fk1935.com
END:VEVENT
BEGIN:VEVENT
DTSTART;VALUE=DATE:20240521
DTEND;VALUE=DATE:20240524
DTSTAMP:20260424T094757
CREATED:20240303T144551Z
LAST-MODIFIED:20240320T052016Z
UID:10906-1716249600-1716508799@fortworthmodela.org
SUMMARY:2024 MARC National Tour
DESCRIPTION:Berlin is in the heart of Holmes County Ohio Amish country. There are literally dozens of interesting places to visit within a 30 mile radius including flea markets\, craft shops\, bakery’s\, cheese shops\, wine shops\, Lehman Brothers hardware\, Wendell August Forge\, furniture store outlets and many other points of interest. \nFor those of you who enjoy history\, there is Roscoe Village\, a restored Ohio Canal town with interesting buildings and shops\, Schoenbrunn Village\, a restored early Ohio pioneer village\, Malabar Farms State Park in Richland County\, the Age of Steam Roundhouse Museum and Erb’s Coleman Lantern Museum in Sugarcreek. \nFor sports lovers\, there is the Pro Football Hall of Fame in canton. \nAlso located in Canton is the First Ladies National Historic site. \nYou can also just enjoy the gently rolling hills and back roads with immaculate Amish homes and farms and experience the Amish culture\, this is a tour you won’t want to miss! \nRegistration and hotel information to follow!!
URL:https://fortworthmodela.org/event/2024-marc-national-tour/
LOCATION:Berlin Ohio\, Berlin\, OH\, 44654\, United States
CATEGORIES:National Events
ATTACH;FMTTYPE=image/jpeg:https://fortworthmodela.org/wp-content/uploads/2024-MARC-National-Tour.jpg
ORGANIZER;CN="Model A Restorer's Club":MAILTO:jwzimmer9119@gmail.comrcotter47@hotmail.com
END:VEVENT
BEGIN:VEVENT
DTSTART;VALUE=DATE:20240511
DTEND;VALUE=DATE:20240512
DTSTAMP:20260424T094757
CREATED:20240320T045128Z
LAST-MODIFIED:20240320T045128Z
UID:11064-1715385600-1715471999@fortworthmodela.org
SUMMARY:Wood\, Waves & Wheels
DESCRIPTION:Join us for Wood\, Waves\, and Wheels: A Classic Car and Boat Show Celebration at Fort Worth Boat Club! \nRev up your engines and set sail on Saturday\, May 11th. Treat Mom to some vintage vroom-vroom before Mother’s Day! It’s a free and open event for everyone. Bring your classic cars\, motorcycles\, boats – anything with wheels or waves! \nEnjoy the stunning collection of classics on display while chilling in your lawn chairs. Spread the word and invite your family\, friends\, and car/bike/boat clubs! Let’s make it a day to remember. #WoodWavesWheels \nInterested in showcasing your vehicle? Registration is now open and completely free – simply follow the links below to sign up online.\n» Entry Form \nDon’t miss out on this favorite annual event! \nAWARDS: People’s Choice | Skipper’s Choice & Best of Show \nFort Worth Boat Club:\noffice@fwbc.com | 817-236-8393
URL:https://fortworthmodela.org/event/wood-waves-wheels/
LOCATION:Fort Worth Boat Club\, 10000 Boat Club Road\, Fort Worth\, TX\, 76179\, United States
CATEGORIES:Special Events
ATTACH;FMTTYPE=image/jpeg:https://fortworthmodela.org/wp-content/uploads/model-a-ford-05-2.jpg
END:VEVENT
BEGIN:VEVENT
DTSTART;TZID=UTC:20240428T133000
DTEND;TZID=UTC:20240428T150000
DTSTAMP:20260424T094757
CREATED:20240229T231634Z
LAST-MODIFIED:20240312T201530Z
UID:9482-1714311000-1714316400@fortworthmodela.org
SUMMARY:Monthly Meeting & Lunch
DESCRIPTION:Lunch from 1:30 to 3pm with clean-up to follow.
URL:https://fortworthmodela.org/event/board-meeting-lunch/
LOCATION:Pate Swap Meet Tent
CATEGORIES:Monthly Meetings
ATTACH;FMTTYPE=image/jpeg:https://fortworthmodela.org/wp-content/uploads/model-a-ford-02-2.jpg
END:VEVENT
BEGIN:VEVENT
DTSTART;VALUE=DATE:20240425
DTEND;VALUE=DATE:20240428
DTSTAMP:20260424T094757
CREATED:20231201T084205Z
LAST-MODIFIED:20240408T042931Z
UID:6720-1714003200-1714262399@fortworthmodela.org
SUMMARY:PATE Swap Meet
DESCRIPTION:The Pate Swap Meet Association now consists of 14 vintage car clubs in Texas\, with the event serving the car restoration hobby and the collection of antique\, vintage\, and notable automobiles and hot rods. Pate Swap Meet is the largest event of its type in the Southwest and second largest in the United States. Operations of the Pate Swap Meet have been located at Texas Motor Speedway since 1998. \nThe Pate Swap Meet averages over 10\,000 spaces for people and vendor to bring their goods to sale or swap.  The Pate Swap Meet has been held since the mid 1980’s and has occurred every year except 2020 and it resumed in 2021 with great success. \nWorker Schedule
URL:https://fortworthmodela.org/event/pate-swap-meet/
LOCATION:TX
CATEGORIES:Annual Events
ATTACH;FMTTYPE=image/jpeg:https://fortworthmodela.org/wp-content/uploads/pate-swap-meet-1.jpg
END:VEVENT
BEGIN:VEVENT
DTSTART;VALUE=DATE:20240404
DTEND;VALUE=DATE:20240407
DTSTAMP:20260424T094757
CREATED:20240320T053245Z
LAST-MODIFIED:20240320T053400Z
UID:11075-1712188800-1712447999@fortworthmodela.org
SUMMARY:2024 National Membership Meet
DESCRIPTION:Hosted by the Joliet Region of the Model A Restorers Club \n» Click here for registration form. \n» Click here for Schedule of events. \nHeld at the Holiday Inn & Suites Joliet Southwest\nSPECIAL GROUP RATE of$139/night\n(779) 206-2915 and mention MARC \nNote: A $12 per person breakfast buffet is available with the Membership Meet Registration Form
URL:https://fortworthmodela.org/event/2024-national-membership-meet/
LOCATION:Holiday Inn & Suites Joliet Southwest\, 1471 Rock Creek Blvd\, Joliet\, IL\, 60431\, United States
CATEGORIES:National Events
ATTACH;FMTTYPE=image/jpeg:https://fortworthmodela.org/wp-content/uploads/joliet-days.jpg
END:VEVENT
BEGIN:VEVENT
DTSTART;TZID=UTC:20240324T140000
DTEND;TZID=UTC:20240324T160000
DTSTAMP:20260424T094757
CREATED:20240229T223413Z
LAST-MODIFIED:20240320T032710Z
UID:9458-1711288800-1711296000@fortworthmodela.org
SUMMARY:Club Meeting March
DESCRIPTION:The club has monthly meetings every month on the fourth Sunday of the month.  The club meetings are a mix of  Social Gathering\, Club News and Information\,  Each month we have a program that often include special guest speakers or little known information about the beloved Model A.  Come join us for one of our meetings as our guest. \nTire kickin/sign in at 2:00 PM and meeting begins at 2:30PM. There is plenty of parking\, parking is off Carleton Ave. CDC guidelines still recommend face masks indoors when in a group of people that may contain some who have not been vaccinated so face masks are preferred at the meeting. \nAfter the meeting on Sunday\, April 24th we are going to Jason Deli on Camp Bowie for dinner. I have some menu’s to pass out for you to look at.  I hope to see a great crowd at the meeting and dinner.
URL:https://fortworthmodela.org/event/club-meeting-march/
LOCATION:Texas Girls Choir\, 4449 Camp Bowie Blvd.\, Fort Worth\, TX\, 76107\, United States
CATEGORIES:Monthly Meetings
ATTACH;FMTTYPE=image/jpeg:https://fortworthmodela.org/wp-content/uploads/car-show-3076.jpg
END:VEVENT
BEGIN:VEVENT
DTSTART;TZID=UTC:20240316T100000
DTEND;TZID=UTC:20240316T235900
DTSTAMP:20260424T094757
CREATED:20240229T005420Z
LAST-MODIFIED:20240229T005420Z
UID:9343-1710583200-1710633540@fortworthmodela.org
SUMMARY:Patch Panel Seminar Workshop
DESCRIPTION:Logan Douglass is conducting a patch panel seminar/workshop on how to properly install patch panels in a Model ‘A’. He will be covering cowl patch panels\, and quarter patch panels in a 30/31 Model ‘A’ coupe. He will go over the right and the wrong way of doing it\, showing how to keep the rust from coming back\, fitting the new panel to the car\, and how to cut it in and butt weld it. \nLogan will then finish out the weld\, hammer\, and dollying to get a nice finish. \nThe seminar will start at 10:00 AM and will be held at the \nAnderton Paint & Body Shop:\n3305 Avenue B\, Fort Worth\, TX 76105\n \nBoth the Dallas and Fort Worth clubs are invited to attend. \nBring safety glasses and a welding helmet if you want to be up close to the action. Ear protection will also be beneficial if anyone is sensitive to loud noise.  \nSee you there!
URL:https://fortworthmodela.org/event/patch-panel-seminar-workshop/
LOCATION:TX
CATEGORIES:Special Events
ATTACH;FMTTYPE=image/jpeg:https://fortworthmodela.org/wp-content/uploads/Patch-Panel-Seminar-1.jpg
END:VEVENT
BEGIN:VEVENT
DTSTART;TZID=America/Chicago:20240316T080000
DTEND;TZID=America/Chicago:20240316T093000
DTSTAMP:20260424T094757
CREATED:20240320T033324Z
LAST-MODIFIED:20240320T033324Z
UID:11043-1710576000-1710581400@fortworthmodela.org
SUMMARY:Breakfast with Dallas Model A Ford Club Members
DESCRIPTION:Please join us for Breakfast with Dallas Model A Ford Club members on Saturday\, March 16\, before the workshop at Logan’s shop!  8:00 AM at the Old South Pancake House\, 1509 S. University Drive\, Ft. Worth\, TX  76107.  Note that this is a change in location.  Come one\, come all.  You may let Karen Whittlesey know if you plan to attend so we can try to reserve space.  Text\, call\, or email (817) 291-1638  kwhittlesey@verizon.net
URL:https://fortworthmodela.org/event/breakfast-with-dallas-model-a-ford-club-members/
LOCATION:Old South Pancake House\, 1509 S. University Drive\, Ft. Worth\, TX\, 76107\, United States
ORGANIZER;CN="Karen Whittlesey":MAILTO:kwhittlesey@verizon.net
END:VEVENT
BEGIN:VEVENT
DTSTART;TZID=UTC:20240309T013000
DTEND;TZID=UTC:20240309T170000
DTSTAMP:20260424T094757
CREATED:20240229T033733Z
LAST-MODIFIED:20240307T141446Z
UID:9419-1709947800-1710003600@fortworthmodela.org
SUMMARY:Celebration of Life for Marilyn Maddox
DESCRIPTION:The Maddox Family Invites the members of the Fort Worth Model ‘A’ Ford Club to A Celebration of the Life of Marilyn Maddox \nCome-and-go Saturday March 9th between 1:30-5PM at Anderson Paint and Body Shop\n3305 Avenue B\, Fort Worth\, Texas 76105 \nIt is with heavy hearts that we announce the passing of Marilyn Kay (Smith) Maddox of Fort Worth\, Texas on December 6\, 2023\, at the age of 78. \nGeorge Maddox has asked volunteers to bring chips or deserts to Marilyn’s Celebration of Life on March 9th. If you would like to volunteer please call Mary at 817-237-1589. \nMarilyn Kay Maddox\nShe was born April 25\, 1945 in Rupert\, Idaho to Dott Edward Smith\, a US Army Colonel and Mary Grace (Leftwich) Smith\, an English teacher. \nMarilyn moved to Texas with her family where she graduated from The University of Texas at Austin with a masters degree in English. During her 30-year teaching career she taught high school English for the Arlington public school system and retired in 2000. Marilyn married George Lester Maddox on June 14\, 1978 and became a beloved family member and stepmother to Shelly Diane Maddox (9) and Misty Lynn Maddox (7). George and Marilyn lived in Fort Worth\, Texas and were active members of the Fort Worth Model “A” Ford Club\, traveling the states for many years and creating unforgettable memories until her passing. She was a collector of many things\, and especially loved butterflies and Blenko glass. \nMarilyn was preceded in death by her parents and her brother Charles Kirby Smith. \nSurvivors: Husband\, George Maddox of Fort Worth; stepdaughters\, Shelly Blevins and Misty Dutton\, both of Fort Worth; four granddaughters; and ten great-grandchildren.
URL:https://fortworthmodela.org/event/celebration-of-life-for-marilyn-maddox/
LOCATION:Anderton Paint and Body Shop\, 3305 Avenue B\, Fort Worth\, TX\, 76105\, United States
CATEGORIES:Membership Events
ATTACH;FMTTYPE=image/jpeg:https://fortworthmodela.org/wp-content/uploads/invite-marilyn-kay-maddox-1.jpg
END:VEVENT
BEGIN:VEVENT
DTSTART;TZID=UTC:20240225T140000
DTEND;TZID=UTC:20240225T160000
DTSTAMP:20260424T094757
CREATED:20231201T091528Z
LAST-MODIFIED:20231201T091528Z
UID:6731-1708869600-1708876800@fortworthmodela.org
SUMMARY:Club Meeting February
DESCRIPTION:The club has monthly meetings every month on the fourth Sunday of the month.  The club meetings are a mix of  Social Gathering\, Club News and Information\,  Each month we have a program that often include special guest speakers or little known information about the beloved Model A.  Come join us for one of our meetings as our guest. \nTire kickin/sign in at 2:00 PM and meeting begins at 2:30PM. There is plenty of parking\, parking is off Carleton Ave. CDC guidelines still recommend face masks indoors when in a group of people that may contain some who have not been vaccinated so face masks are preferred at the meeting. \nThe choir building is at the corner of Carleton Ave. and Camp Bowie Blvd. in between Montgomery and Hulen Street on the south side of Camp Bowie Blvd.
URL:https://fortworthmodela.org/event/club-meeting-february/
LOCATION:Texas Girls Choir\, 4449 Camp Bowie Blvd.\, Fort Worth\, TX\, 76107\, United States
CATEGORIES:Monthly Meetings
ATTACH;FMTTYPE=:
END:VEVENT
BEGIN:VEVENT
DTSTART;VALUE=DATE:20240210
DTEND;VALUE=DATE:20240212
DTSTAMP:20260424T094757
CREATED:20240116T050111Z
LAST-MODIFIED:20240116T050111Z
UID:7435-1707523200-1707695999@fortworthmodela.org
SUMMARY:FWMAC Valentine’s Day Event
DESCRIPTION:Presented by Geoff and Vickie Stamp\nStay tuned for a chapter Valentine’s event the weekend of February 10-11. Final date\, time and place to be confirmed.
URL:https://fortworthmodela.org/event/fwmac-valentines-day-event/
LOCATION:TX
CATEGORIES:Celebrations
ATTACH;FMTTYPE=image/jpeg:https://fortworthmodela.org/wp-content/uploads/Valentines-Day-Event.jpg
END:VEVENT
BEGIN:VEVENT
DTSTART;TZID=UTC:20231215T133000
DTEND;TZID=UTC:20231215T163000
DTSTAMP:20260424T094757
CREATED:20231201T105725Z
LAST-MODIFIED:20240530T191032Z
UID:6766-1702647000-1702657800@fortworthmodela.org
SUMMARY:Annual Christmas Meeting
DESCRIPTION:Mark your calendars for our Christmas Party and Annual Business Meeting\nLocation is set at the Rose Garden Tea Room. More details as we get closer to the event.  \n\n\n\n 
URL:https://fortworthmodela.org/event/annual-christmas-meeting/
LOCATION:Rose Garden Tea Room\, 4720 S. Cooper St.\, Arlington\, TX\, 76017\, United States
CATEGORIES:Annual Events,Monthly Meetings
ATTACH;FMTTYPE=:
END:VEVENT
END:VCALENDAR